BEGIN:VCALENDAR
VERSION:2.0
PRODID:SchoolNow
CALSCALE:GREGORIAN
BEGIN:VEVENT
UID:3529f78c-dd8f-11ef-a162-0e956362e35d
DTSTAMP:20250128T154741Z
SUMMARY:(B) 7/8TH Swimming/Diving (JFK/DMS) - Practice (3:00 PM)
URL;VALUE=URI:https://www.uticaschools.org/departments/athletics/calendar/7
 387930/b-7-8th-swimming-diving-jfk-dms-practice-3-00-pm
DTSTART:20241118T200000Z
DTEND:20241118T220000Z
END:VEVENT
END:VCALENDAR
