BEGIN:VCALENDAR
VERSION:2.0
PRODID:SchoolNow
CALSCALE:GREGORIAN
BEGIN:VEVENT
UID:3423d812-dd8f-11ef-9d0f-0e956362e35d
DTSTAMP:20250128T154739Z
SUMMARY:(B) V Winter Track - Practice (3:00 PM)
LOCATION:MVCC Field House
URL;VALUE=URI:https://www.uticaschools.org/departments/athletics/calendar/7
 387710/b-v-winter-track-practice-3-00-pm
DTSTART:20241121T200000Z
DTEND:20241121T220000Z
END:VEVENT
END:VCALENDAR
