BEGIN:VCALENDAR
VERSION:2.0
PRODID:SchoolNow
CALSCALE:GREGORIAN
BEGIN:VEVENT
UID:33b4524e-dd8f-11ef-8d23-0e956362e35d
DTSTAMP:20250128T154738Z
SUMMARY:(G) JV Basketball - Practice (11:30 AM)
LOCATION:PHS Main Gym
URL;VALUE=URI:https://www.uticaschools.org/departments/athletics/calendar/7
 387585/g-jv-basketball-practice-11-30-am
DTSTART:20241130T163000Z
DTEND:20241130T180000Z
END:VEVENT
END:VCALENDAR
