BEGIN:VCALENDAR
VERSION:2.0
PRODID:SchoolNow
CALSCALE:GREGORIAN
BEGIN:VEVENT
UID:3112b990-dd8f-11ef-b8ca-0e956362e35d
DTSTAMP:20250128T154734Z
SUMMARY:Girls Varsity Volleyball v. Cooperstown
LOCATION:PHS AUX Gym (Volleyball gym)
URL;VALUE=URI:https://www.uticaschools.org/departments/athletics/calendar/7
 387009/girls-varsity-volleyball-v-cooperstown
DTSTART:20241130T183000Z
DTEND:20241130T193000Z
END:VEVENT
END:VCALENDAR
