BEGIN:VCALENDAR
VERSION:2.0
PRODID:SchoolNow
CALSCALE:GREGORIAN
BEGIN:VEVENT
UID:309cd3d8-dd8f-11ef-a02a-0e956362e35d
DTSTAMP:20250128T154733Z
SUMMARY:Boys (DMS) 7th/8th Basketball @ Oneida
LOCATION:Shortell MS Gym
URL;VALUE=URI:https://www.uticaschools.org/departments/athletics/calendar/7
 386913/boys-dms-7th-8th-basketball-oneida
DTSTART:20250121T210000Z
DTEND:20250121T220000Z
END:VEVENT
END:VCALENDAR
